BEGIN:VCALENDAR
VERSION:2.0
PRODID:-//Yavapai County Democratic Party - ECPv6.13.2.1//NONSGML v1.0//EN
CALSCALE:GREGORIAN
METHOD:PUBLISH
X-ORIGINAL-URL:https://www.yavdem.org
X-WR-CALDESC:Events for Yavapai County Democratic Party
REFRESH-INTERVAL;VALUE=DURATION:PT1H
X-Robots-Tag:noindex
X-PUBLISHED-TTL:PT1H
BEGIN:VTIMEZONE
TZID:America/Phoenix
BEGIN:STANDARD
TZOFFSETFROM:-0700
TZOFFSETTO:-0700
TZNAME:MST
DTSTART:20250101T000000
END:STANDARD
END:VTIMEZONE
BEGIN:VEVENT
DTSTART;TZID=America/Phoenix:20260328T080000
DTEND;TZID=America/Phoenix:20260328T170000
DTSTAMP:20260424T091633
CREATED:20260219T202133Z
LAST-MODIFIED:20260325T172450Z
UID:1394-1774684800-1774717200@www.yavdem.org
SUMMARY:March 28 No Kings Protest
DESCRIPTION:Join Prescott Indivisible\, Yavapai County Democratic Party\, Democratic Women of the Prescott Area\, and Martin Luther King Committee for No Kings III National Day of Mobilization Sidewalk Protest in Prescott Valley.  Other Yavapai County locations are listed below; please click on the Mobilize link for further information. \nPrescott Valley:\n11-1 pm\nAlong Hwy 69\nMOBILIZE PRESCOTT & PRESCOTT VALLEY\nIt will go from N. Lake Valley Road to Glassford Hill Road and farther west if needed.\nVolunteers are requested to contact PV Connect – Indivisible and come at 9 am. \nVillage of Oak Creek:\nMOBILIZE VILLAGE OF OAK CREEK\n9:30am-11:30am\nJacks Canyon Roundabout\n6657 AZ-179\nSedona\, AZ 86351 \nSedona: Rally and March\nMOBILIZE SEDONA\n10 am Parking lot at\nSedona Red Rock High School\n995 Upper Red Rock Loop Rd\nSedona\, AZ 86336 \nCottonwood:\n9am-2pm\,\nCottonwood Kids Park\n350 S 12th St\nCottonwood\, AZ 86326\nMOBILIZE COTTONWOOD
URL:https://www.yavdem.org/event/march-28-no-kings-protest/
LOCATION:AZ
END:VEVENT
BEGIN:VEVENT
DTSTART;TZID=America/Phoenix:20260321T170000
DTEND;TZID=America/Phoenix:20260321T200000
DTSTAMP:20260424T091633
CREATED:20260219T200227Z
LAST-MODIFIED:20260219T200402Z
UID:1381-1774112400-1774123200@www.yavdem.org
SUMMARY:2026 Annual DWPA Gala
DESCRIPTION:The Democratic Women of the Prescott Area (DWPA) is hosting its annual gala in honor of women’s history month on Saturday\, March 21\, beginning at 5:00 p.m. at Prescott’s historic Hassayampa Inn. This year’s theme\, Spirit of the Suffragists\, celebrates the courage and determination of those who fought for equality—and those who continue that fight today. \nProceeds from the gala support a variety of grassroots and organizing efforts aimed at advancing civic participation and timely collective action at critical moments across Yavapai County. Gala funds also enable DWPA to award annual scholarships\, including four $2\,000 scholarships this year\, to highly motivated high school seniors in our communities. \nWe are honored to welcome Arizona Congresswoman Yassamin Ansari— the youngest woman serving in the 119th Congress\, the first Iranian American Democrat elected to Congress\, and the Democratic Freshman Class President— as our keynote speaker. The evening will also feature special addresses from JoAnna Mendoza (candidate\, AZ-06) and Jonathan Nez (candidate\, AZ-02). \nDoors open at 5:00 pm with scrumptious appetizers and a cash bar. Try our signature “Dames Collins” and “Democratic Daiquiri” cocktails! \nYour selected dinner includes a complimentary glass of house wine\, a salad\, and chef curated mini dessert bites. \nSeating is assigned. You can purchase multiple seats to ensure seating with friends. There is a maximum of eight attendees per table. \nIn addition to the night’s festivities\, guests are invited to enjoy a silent auction showcasing an elegant and thoughtfully curated selection of items. \nDeadline to purchase tickets is Monday March 16th at 10:00 pm.
URL:https://www.yavdem.org/event/2026-annual-dwpa-gala/
LOCATION:Hassayampa Inn\, 122 E Gurley St\, Prescott\, AZ\, United States
END:VEVENT
BEGIN:VEVENT
DTSTART;TZID=America/Phoenix:20260319T180000
DTEND;TZID=America/Phoenix:20260319T200000
DTSTAMP:20260424T091633
CREATED:20260220T153930Z
LAST-MODIFIED:20260227T203446Z
UID:1398-1773943200-1773950400@www.yavdem.org
SUMMARY:YavDems March 2026 Monthly Meeting and Potluck Supper
DESCRIPTION:Join the Yavapai Democrats for our next Third Thursday Potluck Supper and General Meeting on March 19\, 2026\, from 6-8pm at The Center on Rosser in Prescott. \nWE WILL BE HOSTING A PANEL ON AFFORDABLE SENIOR HOUSING IN YAVAPAI COUNTY. \nPresenters include: Shea Richland\, Prescott Senior Housing Advocate; Susan Wielechowski\, Owner\, Circle of Life Senior Resource Center; Devonna McLaughlin\, CEO\, Housing Solutions of Northern Arizona; Allison Lenocker\, Director for CCJ. (Coalition for Compassion and Justice); Katy O’Batey\, legislative director for AAMHO\, The Arizona Association of Manufactured Home Owners. \nATTEND IN PERSON OR VIA ZOOM (The in-person meeting starts at 6 pm\, the zoom starts at 6:30 pm.) Attend in person at The Center on Rosser\, 1280b E Rosser St. in Prescott.
URL:https://www.yavdem.org/event/yavdems-march-2026-monthly-meeting-and-potluck-supper/
LOCATION:The Center on Rosser\, 1280 E Rosser St\, Prescott\, 86301\, United States
END:VEVENT
BEGIN:VEVENT
DTSTART;TZID=America/Phoenix:20260225T110000
DTEND;TZID=America/Phoenix:20260225T140000
DTSTAMP:20260424T091633
CREATED:20260219T200816Z
LAST-MODIFIED:20260219T200816Z
UID:1387-1772017200-1772028000@www.yavdem.org
SUMMARY:DWPA February 2026 Luncheon
DESCRIPTION:Join us on Wednesday\, February 25th for another spectacular event and presentation! \nAdvocates for Immigrants: What is a Rapid Response Team? \nIn response to increased Immigration and Customs Enforcement (ICE) activity\, communities across the country are forming rapid response teams—community-based networks designed to document\, monitor\, and respond to ICE actions in real time. This month’s luncheon will feature two Verde Valley activists\, Julie Fernatt and Anne Emerson\, who will share their firsthand experiences building rapid response teams in their community\, and explore how similar efforts can be expanded throughout Yavapai County. \nThe luncheon meeting is held at the Centennial Center. (1989 Wineglass Dr\, Prescott) \nRegistration for the luncheon is REQUIRED so we can get an accurate meal count to The Center. Please email events@dwpaaz.org for any reservations with payment at the door\, cancellations\, ticket transfer requests\, special accessibility or financial needs\, or luncheon questions. \nREMINDER : Doors DO NOT open until 11:00am. Program announcements begin at 11:30 with luncheon served around noon. Social time is from 1:30 to 2 pm.
URL:https://www.yavdem.org/event/dwpa-february-2026-luncheon/
LOCATION:Centennial Center\, 989 Wineglass Dr\, Prescott\, 86301\, United States
END:VEVENT
BEGIN:VEVENT
DTSTART;TZID=America/Phoenix:20260219T180000
DTEND;TZID=America/Phoenix:20260219T200000
DTSTAMP:20260424T091633
CREATED:20260127T200538Z
LAST-MODIFIED:20260219T201037Z
UID:1365-1771524000-1771531200@www.yavdem.org
SUMMARY:YavDems February 2026 Monthly Meeting & Potluck Supper
DESCRIPTION:Join the Yavapai Democrats for our next Third Thursday Potluck Supper and General Meeting on February 19. \n 
URL:https://www.yavdem.org/event/yavdems-february-2026-monthly-meeting-potluck-supper/
LOCATION:The Center on Rosser\, 1280 E Rosser St\, Prescott\, 86301\, United States
END:VEVENT
BEGIN:VEVENT
DTSTART;TZID=America/Phoenix:20260128T110000
DTEND;TZID=America/Phoenix:20260128T140000
DTSTAMP:20260424T091633
CREATED:20260110T183355Z
LAST-MODIFIED:20260110T183355Z
UID:1349-1769598000-1769608800@www.yavdem.org
SUMMARY:DWPA Monthly Luncheon - January 28
DESCRIPTION:
URL:https://www.yavdem.org/event/dwpa-monthly-luncheon-january-28/
LOCATION:Prescott Centennial Center\, 989 Wineglass Dr\, Prescott\, AZ\, United States
END:VEVENT
BEGIN:VEVENT
DTSTART;TZID=America/Phoenix:20260119T100000
DTEND;TZID=America/Phoenix:20260119T140000
DTSTAMP:20260424T091633
CREATED:20260110T182419Z
LAST-MODIFIED:20260110T182419Z
UID:1338-1768816800-1768831200@www.yavdem.org
SUMMARY:13th Annual MLK Day March & Celebration - Monday\, Jan 19\, 2026
DESCRIPTION:
URL:https://www.yavdem.org/event/13th-annual-mlk-day-march-celebration-monday-jan-19-2026/
LOCATION:Prescott United Methodist Church\, Prescott\, AZ\, United States
END:VEVENT
BEGIN:VEVENT
DTSTART;TZID=America/Phoenix:20260117T110000
DTEND;TZID=America/Phoenix:20260117T143000
DTSTAMP:20260424T091633
CREATED:20260110T182802Z
LAST-MODIFIED:20260110T182802Z
UID:1341-1768647600-1768660200@www.yavdem.org
SUMMARY:Civil Rights Day Recognition - January 17\, 2026
DESCRIPTION:
URL:https://www.yavdem.org/event/civil-rights-day-recognition-january-17-2026/
LOCATION:Cordes Lakes Community Center\, 16357 S Cordes Lakes\, Cordes Lakes\, AZ\, United States
END:VEVENT
BEGIN:VEVENT
DTSTART;TZID=America/Phoenix:20260115T180000
DTEND;TZID=America/Phoenix:20260115T200000
DTSTAMP:20260424T091633
CREATED:20251229T230901Z
LAST-MODIFIED:20260106T195930Z
UID:1315-1768500000-1768507200@www.yavdem.org
SUMMARY:January 2026 Monthly Meeting and Potluck Supper
DESCRIPTION:Join the Yavapai Democrats for our next Third Thursday General Meeting and Potluck Supper on January 15\, 2026. \n  \nFeatured speakers include: Clara Pratte\, Dem candidate for AZ Corporation Commission; Christine Dargon\, Dem candidate for AZ Senate in LD1; and Jonathan Nez\, Dem candidate for U.S. Congress in AZ2. \nJoin us in person or via zoom. Kindly register to receive the zoom link. \n$10 with dish \n$15 without \nRSVP with Mobilize \n 
URL:https://www.yavdem.org/event/january-monthly-meeting-and-potluck/
LOCATION:The Center on Rosser\, 1280 E Rosser St\, Prescott\, 86301\, United States
END:VEVENT
BEGIN:VEVENT
DTSTART;TZID=America/Phoenix:20260114T150000
DTEND;TZID=America/Phoenix:20260114T170000
DTSTAMP:20260424T091633
CREATED:20260110T183049Z
LAST-MODIFIED:20260110T183535Z
UID:1346-1768402800-1768410000@www.yavdem.org
SUMMARY:DWPA Liberal Libations - January 14
DESCRIPTION:Kindly RSVP with an email to events@dwpaaz.org.
URL:https://www.yavdem.org/event/dwpa-liberal-libations-january-14/
LOCATION:Triple Creek Kitchen & Spirits\, 300 N Montezuma St\, Prescott\, AZ\, United States
END:VEVENT
BEGIN:VEVENT
DTSTART;TZID=America/Phoenix:20260111T120000
DTEND;TZID=America/Phoenix:20260111T130000
DTSTAMP:20260424T091633
CREATED:20260110T181347Z
LAST-MODIFIED:20260110T181639Z
UID:1332-1768132800-1768136400@www.yavdem.org
SUMMARY:"ICE Out for Good" Weekend of Action January 10-11
DESCRIPTION:A broad coalition of groups across the country has called for a coordinated “ICE Out for Good” Weekend of Action to demand accountability\, honor the life lost\, and make visible the human cost of ICE’s actions.  Join us Sunday\, January 11 at noon\, at the corner of Gurley St and Montezuma St in downtown Prescott. \nA core principle behind all ICE Out for Good events is a commitment to non-violent action and no civil disobedience. Participants are expected to seek to de-escalate any potential confrontation with those who disagree with our values\, and to act lawfully at these events.  Weapons of any kind\, including those legally permitted\, should not be brought to events. \n 
URL:https://www.yavdem.org/event/ice-out-for-good-weekend-of-action-january-10-11/
LOCATION:Gurley St & Montezuma St\, Prescott\, AZ\, United States
END:VEVENT
BEGIN:VEVENT
DTSTART;TZID=America/Phoenix:20251218T180000
DTEND;TZID=America/Phoenix:20251218T200000
DTSTAMP:20260424T091633
CREATED:20251201T160221Z
LAST-MODIFIED:20251201T160338Z
UID:1305-1766080800-1766088000@www.yavdem.org
SUMMARY:YavDems December Monthly Meeting & Volunteer Appreciation Holiday Party
DESCRIPTION:This meeting is in person only … no zoom option. \nTo celebrate the holidays and the work of our many amazing volunteers\, we will be providing the food and beverages for our December meeting.  We kindly request that you join us in donating what you can to help those in need.  We will be donating any cash donations and raffle proceeds to the Prescott Community Cupboard. \nWe are also collecting food\, clothing and hygiene items for the Yavapai County Food Bank. Please bring any non-perishable\, unexpired food items\, hygiene items and clothing to the event and we will arrange to have them delivered to the Food Bank.
URL:https://www.yavdem.org/event/yavdems-december-monthly-meeting-volunteer-appreciation-holiday-party/
LOCATION:The Center on Rosser\, 1280 E Rosser St\, Prescott\, 86301\, United States
END:VEVENT
BEGIN:VEVENT
DTSTART;TZID=America/Phoenix:20251120T180000
DTEND;TZID=America/Phoenix:20251120T200000
DTSTAMP:20260424T091633
CREATED:20251102T001833Z
LAST-MODIFIED:20251102T001853Z
UID:1283-1763661600-1763668800@www.yavdem.org
SUMMARY:YavDems November Monthly Meeting and Potluck
DESCRIPTION:Join the Yavapai Democrats for our next Third Thursday Potluck Supper and General Meeting on November 20.  The featured program is Young Democrat Organizers\, Sharing Strategies that Work. Special guest Jonathan Nez\, Democrat candidate for CD2\, will also join us. \nOur speakers include: Jacob Marson\, co-founder and Executive Director of Keep Arizona Blue Student Coalition; Kasheena Miles\, Youth Vote Director for Arizona Native Democrats; Feather\, Field Organizer for Jay Ruby’s Prescott City Council Campaign; and Sedona Ortega\, YavDem PC and volunteer. \nJoin us in person at The Center on Rosser\, or via zoom.  The in-person meeting starts at 6pm and the zoom starts at 6:30pm. \n \n 
URL:https://www.yavdem.org/event/yavdems-november-monthly-meeting-and-potluck/
LOCATION:The Center on Rosser\, 1280 E Rosser St\, Prescott\, 86301\, United States
END:VEVENT
BEGIN:VEVENT
DTSTART;TZID=America/Phoenix:20251119T113000
DTEND;TZID=America/Phoenix:20251119T130000
DTSTAMP:20260424T091633
CREATED:20251102T002932Z
LAST-MODIFIED:20251102T002932Z
UID:1290-1763551800-1763557200@www.yavdem.org
SUMMARY:DWPA November Monthly Meeting - Note Date Change!
DESCRIPTION:Join DWPA on Wednesday\, November 19th for another spectacular event and presentation! Our speakers are Rebecca Wolfe and Mark Robert Gordon. They both have first hand experience in Ukraine\, this will be timely and informative presentation. Don’t miss out! \nNOTE: This month our luncheon is on the THIRD Wednesday due to Thanksgiving. \n 
URL:https://www.yavdem.org/event/dwpa-november-monthly-meeting-note-date-change/
LOCATION:Centennial Center\, 989 Wineglass Dr\, Prescott\, 86301\, United States
END:VEVENT
BEGIN:VEVENT
DTSTART;TZID=America/Phoenix:20251101T080000
DTEND;TZID=America/Phoenix:20251231T170000
DTSTAMP:20260424T091633
CREATED:20251102T003542Z
LAST-MODIFIED:20251102T003614Z
UID:1294-1761984000-1767200400@www.yavdem.org
SUMMARY:Donate to the Prescott Community Cupboard
DESCRIPTION:  \nYavDem announcement – SNAP suspension (1)
URL:https://www.yavdem.org/event/donate-to-the-prescott-community-cupboard/
LOCATION:AZ
END:VEVENT
BEGIN:VEVENT
DTSTART;TZID=America/Phoenix:20251018T160000
DTEND;TZID=America/Phoenix:20251018T180000
DTSTAMP:20260424T091633
CREATED:20251012T230439Z
LAST-MODIFIED:20251016T020337Z
UID:1259-1760803200-1760810400@www.yavdem.org
SUMMARY:"No Kings" Protest in Camp Verde
DESCRIPTION:Join this nationwide protest on Saturday\, Oct 18\, 2025\, from 4:00-6:00PM in downtown Camp Verde\, on Main Street near the Wingfield Plaza. Parking near the Camp Verde Marshal’s Office\, 646 S. 1st St.\, Camp Verde 86322. \n 
URL:https://www.yavdem.org/event/no-kings-protest-in-camp-verde/
LOCATION:Downtown Camp Verde\, On Main St. near Wingfield Plaza\, Camp Verde\, 86322\, United States
END:VEVENT
BEGIN:VEVENT
DTSTART;TZID=America/Phoenix:20251018T140000
DTEND;TZID=America/Phoenix:20251018T160000
DTSTAMP:20260424T091633
CREATED:20251012T230723Z
LAST-MODIFIED:20251012T230733Z
UID:1262-1760796000-1760803200@www.yavdem.org
SUMMARY:"No Kings" Protest in Flagstaff
DESCRIPTION:Join this nationwide protest on Saturday\, Oct 18\, 2025\, from 2:00-4:00PM at the Flagstaff City Hall\, 211 W Aspen Dr\, Flagstaff.
URL:https://www.yavdem.org/event/no-kings-protest-in-flagstaff/
LOCATION:Flagstaff City Hall\, 211 W Aspen Ave\, Flagstaff\, AZ\, 86001\, United States
END:VEVENT
BEGIN:VEVENT
DTSTART;TZID=America/Phoenix:20251018T100000
DTEND;TZID=America/Phoenix:20251018T123000
DTSTAMP:20260424T091633
CREATED:20251012T230204Z
LAST-MODIFIED:20251012T230204Z
UID:1254-1760781600-1760790600@www.yavdem.org
SUMMARY:"No Kings" Protest in Sedona
DESCRIPTION:Join this nationwide protest on Saturday\, Oct 18\, 2025\, from 10am-12:30pm. Gather at State Route 89A & Coffee Pot Drive\, SW Corner\, in Sedona\, 86336.  Similar protests have been organized elsewhere in Northern Arizona\, specifically in Prescott Valley\, Camp Verde\, and Flagstaff. \n 
URL:https://www.yavdem.org/event/no-kings-protest-in-sedona/
LOCATION:89A & Coffee Pot Drive\, Sedona\, AZ\, 86336\, United States
END:VEVENT
BEGIN:VEVENT
DTSTART;TZID=America/Phoenix:20251018T100000
DTEND;TZID=America/Phoenix:20251018T120000
DTSTAMP:20260424T091633
CREATED:20250929T150906Z
LAST-MODIFIED:20251016T021819Z
UID:1245-1760781600-1760788800@www.yavdem.org
SUMMARY:"No Kings" Sidewalk Protest in Prescott Valley
DESCRIPTION:Please click on the link below for updated information on where to gather as of 10/15/2025!  Thank you. \nMessage for participants to report to the west end of the event venue \nWe are joining millions nationwide for the “No Kings” protest on Saturday\, Oct 18\, 2025\, from 10am-12pm. Our sidewalk protest is planned in Prescott Valley along Hwy 69. Bring your voice and signs that can be seen by passing traffic. General participants are asked to go directly to the west end and park on the Frontage Road between Valley View Drive and Prescott E Highway\, on the opposite side of the road from the businesses.  Click the above link for a map and for more updated information. This event is sponsored by Prescott Indivisible\, Yavapai County Democratic Party\, Democratic Women of the Prescott Area and Prescott’s MLK Peace and Justice Coalition. \n 
URL:https://www.yavdem.org/event/no-kings-sidewalk-protest-in-prescott-valley/
LOCATION:AZ
END:VEVENT
BEGIN:VEVENT
DTSTART;TZID=America/Phoenix:20251004T170000
DTEND;TZID=America/Phoenix:20251004T203000
DTSTAMP:20260424T091633
CREATED:20250907T164854Z
LAST-MODIFIED:20250907T165403Z
UID:1223-1759597200-1759609800@www.yavdem.org
SUMMARY:Sponsor the Truman-Clinton Gala!
DESCRIPTION:We’ve got three awesome levels of sponsorship for the 2025 Truman Clinton gala on October 4. We have a big election coming up in 2026. This may be the last chance to stop the threat of authoritarianism in this country and to retain the Democratic officials we have in AZ. \nThis year’s keynote speaker is Arizona Secretary of State Adrian Fontes.  It is an immense honor to be hosting Secretary Fontes and our featured speakers include CD2 Candidate Jonathan Nez and Candidate for Arizona Superintendent of Public Instruction\, Dr. Teresa Lebya Ruiz. \nThank you for going above and beyond because rural Arizona is not going back! \nPlease note that in order to be featured on the event slide show\, you must complete your transaction and provide the graphic or name to be printed by September 12\, 2025. \nSponsor this event HERE.
URL:https://www.yavdem.org/event/sponsor-the-truman-clinton-gala/
LOCATION:The Prescott Resort\, 1500 AZ-69\, Prescott\, AZ\, 86301\, United States
END:VEVENT
BEGIN:VEVENT
DTSTART;TZID=America/Phoenix:20251004T170000
DTEND;TZID=America/Phoenix:20251004T203000
DTSTAMP:20260424T091633
CREATED:20250906T051716Z
LAST-MODIFIED:20250907T165105Z
UID:1198-1759597200-1759609800@www.yavdem.org
SUMMARY:Truman-Clinton Gala
DESCRIPTION:Please join us on Saturday\, Oct 4\, 2025\, at the Prescott Resort for a celebration of our unwavering union. \nWe’ll start with a lively cocktail hour and then move into the ballroom for a delicious meal with friends. This year’s keynote speaker is Arizona Secretary of State Adrian Fontes.  It is an immense honor to be hosting Secretary Fontes and our featured speakers include CD2 Candidate Jonathan Nez and Candidate for Arizona Superintendent of Public Instruction\, Dr. Teresa Lebya Ruiz. \nPurchase your tickets HERE. \nSponsor this event HERE. \n \n 
URL:https://www.yavdem.org/event/truman-clinton-gala/
LOCATION:The Prescott Resort\, 1500 AZ-69\, Prescott\, AZ\, 86301\, United States
END:VEVENT
BEGIN:VEVENT
DTSTART;TZID=America/Phoenix:20250918T180000
DTEND;TZID=America/Phoenix:20250918T200000
DTSTAMP:20260424T091633
CREATED:20250906T053226Z
LAST-MODIFIED:20250907T155522Z
UID:1203-1758218400-1758225600@www.yavdem.org
SUMMARY:September Monthly Meeting and Potluck
DESCRIPTION:Please RSVP HERE as soon as possible! \nJasmine Jewell\, Northern AZ Regional Director of Arizona List\, which works to recruit\, train\, support\, and elect pro-choice Democratic women running for office in Arizona\, will provide an overview of their work and upcoming plans. \nJUST ADDED TO PROGRAM: \nErin Mahan\, Board Member of the Northern AZ Climate Change Alliance\, will discuss Power and Possibility: Climate Solutions for Arizona Communities.  Learn how Yavapai County Democrats can positively impact the energy future for Arizonans. \nPlus Jackson James\, recent Yavapai College grad\, will reflect on his recent summer internship in Senator Mark Kelly’s DC office. \n  \n 
URL:https://www.yavdem.org/event/september-monthly-meeting-and-potluck/
LOCATION:The Center on Rosser\, 1280 E Rosser St\, Prescott\, 86301\, United States
END:VEVENT
BEGIN:VEVENT
DTSTART;TZID=America/Phoenix:20250916T100000
DTEND;TZID=America/Phoenix:20251004T220000
DTSTAMP:20260424T091633
CREATED:20250917T003454Z
LAST-MODIFIED:20250929T151421Z
UID:1232-1758016800-1759615200@www.yavdem.org
SUMMARY:Truman-Clinton Online Auction 2025
DESCRIPTION:ONLINE AUCTION ENDS SATURDAY\, OCT 4\, 2025\, 10PM! \nThe Truman-Clinton Auction 2025 is live online so peruse the auction items at your leisure and bid. The auction ends at 10PM on Saturday\, Oct 4\, 2025\, following the Truman-Clinton Gala. Thank you to all our generous donors for their support\, and to all those who bid. All proceeds support the important work of Yavapai Democrats. \n \nhttps://www.32auctions.com/YavapaiDems
URL:https://www.yavdem.org/event/truman-clinton-online-auction-2025/
LOCATION:AZ
END:VEVENT
BEGIN:VEVENT
DTSTART;TZID=America/Phoenix:20250821T180000
DTEND;TZID=America/Phoenix:20250821T200000
DTSTAMP:20260424T091633
CREATED:20250906T053746Z
LAST-MODIFIED:20250906T053746Z
UID:1206-1755799200-1755806400@www.yavdem.org
SUMMARY:August Monthly Meeting and Potluck
DESCRIPTION:
URL:https://www.yavdem.org/event/august-monthly-meeting-and-potluck/
LOCATION:The Center on Rosser\, 1280 E Rosser St\, Prescott\, 86301\, United States
END:VEVENT
BEGIN:VEVENT
DTSTART;TZID=America/Phoenix:20250713T110000
DTEND;TZID=America/Phoenix:20250713T130000
DTSTAMP:20260424T091633
CREATED:20250610T161725Z
LAST-MODIFIED:20250610T162831Z
UID:1117-1752404400-1752411600@www.yavdem.org
SUMMARY:YavDems Annual Picnic Lunch
DESCRIPTION:Join the Yavapai County Democratic Party \nfor our Annual Picnic Lunch and Pie Auction \nat beautiful Goldwater Lake. \nEnjoy good food\, good company \nand help support your County Party. \nBuy your tickets HERE.
URL:https://www.yavdem.org/event/yavdems-annual-picnic-lunch/
LOCATION:Goldwater Lake
END:VEVENT
BEGIN:VEVENT
DTSTART;TZID=America/Phoenix:20250619T180000
DTEND;TZID=America/Phoenix:20250619T200000
DTSTAMP:20260424T091633
CREATED:20250602T011410Z
LAST-MODIFIED:20250602T012436Z
UID:1099-1750356000-1750363200@www.yavdem.org
SUMMARY:June Monthly Meeting and Potluck
DESCRIPTION:Program: What Can I Do?  Supporting the Area’s Besieged Populations – Part 1 \nSpecial guest Robert Shegog will join us in observance of Juneteenth\, and Sarah Mahler\, YavDems Equity Coordinator\, will address immigration\, enforcement\, and needed advocacy for area Latinos. \nPotluck supper 6-6:45pm\, with general meeting from 7-8pm. \nPLEASE RSVP HERE
URL:https://www.yavdem.org/event/june-monthly-meeting-and-potluck/
LOCATION:The Center on Rosser\, 1280 E Rosser St\, Prescott\, 86301\, United States
END:VEVENT
BEGIN:VEVENT
DTSTART;TZID=America/Phoenix:20250614T100000
DTEND;TZID=America/Phoenix:20250614T120000
DTSTAMP:20260424T091633
CREATED:20250602T010620Z
LAST-MODIFIED:20250602T011753Z
UID:1091-1749895200-1749902400@www.yavdem.org
SUMMARY:No Kings! Rally and March
DESCRIPTION:🚨 In America\, we don’t do Kings.   \nOn Saturday\, June 14th\, we’re taking to the streets again.   \nThey’ve defied our courts\, deported Americans\, disappeared people off the streets\,  \nattacked our civil rights\, and slashed our services.  The corruption has gone too far.   \nNo thrones. No crowns. No kings! 🚨 \n📍 Where: Prescott Courthouse 120 S Cortez St \n📅 When: 10:00a.m. – 12:00p.m.\, Saturday\, June 14\, 2025 \nSponsored by: \nPrescott Indivisible \nYavapai County Democratic Party \nDemocratic Women of the Prescott Area \nBring your friends\, signs and flags in honor of Flag Day \nRegister here \n  \n  \n 
URL:https://www.yavdem.org/event/no-kings-rally-and-march/
LOCATION:Prescott Courthouse Square
END:VEVENT
BEGIN:VEVENT
DTSTART;TZID=America/Phoenix:20250518T163000
DTEND;TZID=America/Phoenix:20250518T183000
DTSTAMP:20260424T091633
CREATED:20250424T230640Z
LAST-MODIFIED:20250424T230718Z
UID:1057-1747585800-1747593000@www.yavdem.org
SUMMARY:American Music in the Vineyard
DESCRIPTION:BUY TICKETS HERE
URL:https://www.yavdem.org/event/american-music-in-the-vineyard/
LOCATION:Winey Cats\, 2515 N Rd 1 E\, Chino Valley\, AZ\, 86323\, United States
END:VEVENT
BEGIN:VEVENT
DTSTART;TZID=America/Phoenix:20250417T183000
DTEND;TZID=America/Phoenix:20250417T200000
DTSTAMP:20260424T091633
CREATED:20250328T202209Z
LAST-MODIFIED:20250328T202209Z
UID:1044-1744914600-1744920000@www.yavdem.org
SUMMARY:Veterans Affairs Town Hall
DESCRIPTION:Yavapai County is home to nearly 25\,000 veterans. The Bob Stump Department of Veterans Affairs is one of the largest locations serving veterans in Northern Arizona\, employing over 1\,000 of our residents. Many of these individuals are alarmed by the Trump administration’s recent threats to terminate essential employees and reduce funding for necessary care. \nThe Yavapai County Democratic Party invites you to attend and participate in a bipartisan Veterans Affairs Town Hall on Thursday 4/17 from 6:30PM to 8PM in Prescott\, at The Center on Rosser. PLEASE RSVP HERE in advance. We will hear from relevant speakers and then engage in a respectful dialogue of constituent testimony with our panel of LD1 and CD2 legislators. If you are a veteran\, a family member or caregiver for a veteran\, or a VA employee\, please sign up here when the link becomes available.
URL:https://www.yavdem.org/event/veterans-affairs-town-hall/
LOCATION:The Center on Rosser\, 1280 E Rosser St\, Prescott\, 86301\, United States
END:VEVENT
BEGIN:VEVENT
DTSTART;TZID=America/Phoenix:20250405T120000
DTEND;TZID=America/Phoenix:20250405T140000
DTSTAMP:20260424T091633
CREATED:20250327T175130Z
LAST-MODIFIED:20250327T175610Z
UID:1035-1743854400-1743861600@www.yavdem.org
SUMMARY:Hands Off! Prescott Fights Back Rally
DESCRIPTION:Donald Trump and Elon Musk think this country belongs to them. Prescott is fighting back! \nThey’re taking everything they can get their hands on—our health care\, our data\, our jobs\, our services—and daring the world to stop them. This is a crisis\, and the time to act is now. \n🚨 On Saturday\, April 5th\, we’re taking to the streets to fight back with a clear message: Hands off! 🚨 \n📍 Where: Prescott Courthouse 120 S Cortez St 📅 When: 12:00pm April 5\, 2025 \nSponsored by: \nPrescott Indivisible \nYavapai County Democratic Party \nDemocratic Women of the Prescott Area \nThis mass mobilization day is our message to the world that we do not consent to the destruction of our government and our economy for the benefit of Trump and his billionaire allies. Alongside Americans across the country\, we are marching\, rallying\, and protesting to demand a stop the chaos and build an opposition movement against the looting of our country. \nA core principle behind all Hands Off! events is a commitment to nonviolent action. We expect all participants to seek to de-escalate any potential confrontation with those who disagree with our values. \nCheck out handsoff2025.com for more information.
URL:https://www.yavdem.org/event/hands-off-prescott-fights-back-rally/
LOCATION:Prescott Courthouse Square
ATTACH;FMTTYPE=image/jpeg:https://www.yavdem.org/wp-content/uploads/2025/03/april_5.jpg
END:VEVENT
END:VCALENDAR