BEGIN:VCALENDAR
VERSION:2.0
PRODID:-//Yavapai County Democratic Party - ECPv6.13.2.1//NONSGML v1.0//EN
CALSCALE:GREGORIAN
METHOD:PUBLISH
X-ORIGINAL-URL:https://www.yavdem.org
X-WR-CALDESC:Events for Yavapai County Democratic Party
REFRESH-INTERVAL;VALUE=DURATION:PT1H
X-Robots-Tag:noindex
X-PUBLISHED-TTL:PT1H
BEGIN:VTIMEZONE
TZID:America/Phoenix
BEGIN:STANDARD
TZOFFSETFROM:-0700
TZOFFSETTO:-0700
TZNAME:MST
DTSTART:20240101T000000
END:STANDARD
END:VTIMEZONE
BEGIN:VEVENT
DTSTART;TZID=America/Phoenix:20251004T170000
DTEND;TZID=America/Phoenix:20251004T203000
DTSTAMP:20260424T123850
CREATED:20250906T051716Z
LAST-MODIFIED:20250907T165105Z
UID:1198-1759597200-1759609800@www.yavdem.org
SUMMARY:Truman-Clinton Gala
DESCRIPTION:Please join us on Saturday\, Oct 4\, 2025\, at the Prescott Resort for a celebration of our unwavering union. \nWe’ll start with a lively cocktail hour and then move into the ballroom for a delicious meal with friends. This year’s keynote speaker is Arizona Secretary of State Adrian Fontes.  It is an immense honor to be hosting Secretary Fontes and our featured speakers include CD2 Candidate Jonathan Nez and Candidate for Arizona Superintendent of Public Instruction\, Dr. Teresa Lebya Ruiz. \nPurchase your tickets HERE. \nSponsor this event HERE. \n \n 
URL:https://www.yavdem.org/event/truman-clinton-gala/
LOCATION:The Prescott Resort\, 1500 AZ-69\, Prescott\, AZ\, 86301\, United States
END:VEVENT
BEGIN:VEVENT
DTSTART;TZID=America/Phoenix:20250918T180000
DTEND;TZID=America/Phoenix:20250918T200000
DTSTAMP:20260424T123850
CREATED:20250906T053226Z
LAST-MODIFIED:20250907T155522Z
UID:1203-1758218400-1758225600@www.yavdem.org
SUMMARY:September Monthly Meeting and Potluck
DESCRIPTION:Please RSVP HERE as soon as possible! \nJasmine Jewell\, Northern AZ Regional Director of Arizona List\, which works to recruit\, train\, support\, and elect pro-choice Democratic women running for office in Arizona\, will provide an overview of their work and upcoming plans. \nJUST ADDED TO PROGRAM: \nErin Mahan\, Board Member of the Northern AZ Climate Change Alliance\, will discuss Power and Possibility: Climate Solutions for Arizona Communities.  Learn how Yavapai County Democrats can positively impact the energy future for Arizonans. \nPlus Jackson James\, recent Yavapai College grad\, will reflect on his recent summer internship in Senator Mark Kelly’s DC office. \n  \n 
URL:https://www.yavdem.org/event/september-monthly-meeting-and-potluck/
LOCATION:The Center on Rosser\, 1280 E Rosser St\, Prescott\, 86301\, United States
END:VEVENT
BEGIN:VEVENT
DTSTART;TZID=America/Phoenix:20250916T100000
DTEND;TZID=America/Phoenix:20251004T220000
DTSTAMP:20260424T123850
CREATED:20250917T003454Z
LAST-MODIFIED:20250929T151421Z
UID:1232-1758016800-1759615200@www.yavdem.org
SUMMARY:Truman-Clinton Online Auction 2025
DESCRIPTION:ONLINE AUCTION ENDS SATURDAY\, OCT 4\, 2025\, 10PM! \nThe Truman-Clinton Auction 2025 is live online so peruse the auction items at your leisure and bid. The auction ends at 10PM on Saturday\, Oct 4\, 2025\, following the Truman-Clinton Gala. Thank you to all our generous donors for their support\, and to all those who bid. All proceeds support the important work of Yavapai Democrats. \n \nhttps://www.32auctions.com/YavapaiDems
URL:https://www.yavdem.org/event/truman-clinton-online-auction-2025/
END:VEVENT
BEGIN:VEVENT
DTSTART;TZID=America/Phoenix:20250821T180000
DTEND;TZID=America/Phoenix:20250821T200000
DTSTAMP:20260424T123850
CREATED:20250906T053746Z
LAST-MODIFIED:20250906T053746Z
UID:1206-1755799200-1755806400@www.yavdem.org
SUMMARY:August Monthly Meeting and Potluck
DESCRIPTION:
URL:https://www.yavdem.org/event/august-monthly-meeting-and-potluck/
LOCATION:The Center on Rosser\, 1280 E Rosser St\, Prescott\, 86301\, United States
END:VEVENT
BEGIN:VEVENT
DTSTART;TZID=America/Phoenix:20250713T110000
DTEND;TZID=America/Phoenix:20250713T130000
DTSTAMP:20260424T123850
CREATED:20250610T161725Z
LAST-MODIFIED:20250610T162831Z
UID:1117-1752404400-1752411600@www.yavdem.org
SUMMARY:YavDems Annual Picnic Lunch
DESCRIPTION:Join the Yavapai County Democratic Party \nfor our Annual Picnic Lunch and Pie Auction \nat beautiful Goldwater Lake. \nEnjoy good food\, good company \nand help support your County Party. \nBuy your tickets HERE.
URL:https://www.yavdem.org/event/yavdems-annual-picnic-lunch/
LOCATION:Goldwater Lake
END:VEVENT
BEGIN:VEVENT
DTSTART;TZID=America/Phoenix:20250619T180000
DTEND;TZID=America/Phoenix:20250619T200000
DTSTAMP:20260424T123850
CREATED:20250602T011410Z
LAST-MODIFIED:20250602T012436Z
UID:1099-1750356000-1750363200@www.yavdem.org
SUMMARY:June Monthly Meeting and Potluck
DESCRIPTION:Program: What Can I Do?  Supporting the Area’s Besieged Populations – Part 1 \nSpecial guest Robert Shegog will join us in observance of Juneteenth\, and Sarah Mahler\, YavDems Equity Coordinator\, will address immigration\, enforcement\, and needed advocacy for area Latinos. \nPotluck supper 6-6:45pm\, with general meeting from 7-8pm. \nPLEASE RSVP HERE
URL:https://www.yavdem.org/event/june-monthly-meeting-and-potluck/
LOCATION:The Center on Rosser\, 1280 E Rosser St\, Prescott\, 86301\, United States
END:VEVENT
BEGIN:VEVENT
DTSTART;TZID=America/Phoenix:20250614T100000
DTEND;TZID=America/Phoenix:20250614T120000
DTSTAMP:20260424T123850
CREATED:20250602T010620Z
LAST-MODIFIED:20250602T011753Z
UID:1091-1749895200-1749902400@www.yavdem.org
SUMMARY:No Kings! Rally and March
DESCRIPTION:🚨 In America\, we don’t do Kings.   \nOn Saturday\, June 14th\, we’re taking to the streets again.   \nThey’ve defied our courts\, deported Americans\, disappeared people off the streets\,  \nattacked our civil rights\, and slashed our services.  The corruption has gone too far.   \nNo thrones. No crowns. No kings! 🚨 \n📍 Where: Prescott Courthouse 120 S Cortez St \n📅 When: 10:00a.m. – 12:00p.m.\, Saturday\, June 14\, 2025 \nSponsored by: \nPrescott Indivisible \nYavapai County Democratic Party \nDemocratic Women of the Prescott Area \nBring your friends\, signs and flags in honor of Flag Day \nRegister here \n  \n  \n 
URL:https://www.yavdem.org/event/no-kings-rally-and-march/
LOCATION:Prescott Courthouse Square
END:VEVENT
BEGIN:VEVENT
DTSTART;TZID=America/Phoenix:20250518T163000
DTEND;TZID=America/Phoenix:20250518T183000
DTSTAMP:20260424T123850
CREATED:20250424T230640Z
LAST-MODIFIED:20250424T230718Z
UID:1057-1747585800-1747593000@www.yavdem.org
SUMMARY:American Music in the Vineyard
DESCRIPTION:BUY TICKETS HERE
URL:https://www.yavdem.org/event/american-music-in-the-vineyard/
LOCATION:Winey Cats\, 2515 N Rd 1 E\, Chino Valley\, AZ\, 86323\, United States
END:VEVENT
BEGIN:VEVENT
DTSTART;TZID=America/Phoenix:20250417T183000
DTEND;TZID=America/Phoenix:20250417T200000
DTSTAMP:20260424T123850
CREATED:20250328T202209Z
LAST-MODIFIED:20250328T202209Z
UID:1044-1744914600-1744920000@www.yavdem.org
SUMMARY:Veterans Affairs Town Hall
DESCRIPTION:Yavapai County is home to nearly 25\,000 veterans. The Bob Stump Department of Veterans Affairs is one of the largest locations serving veterans in Northern Arizona\, employing over 1\,000 of our residents. Many of these individuals are alarmed by the Trump administration’s recent threats to terminate essential employees and reduce funding for necessary care. \nThe Yavapai County Democratic Party invites you to attend and participate in a bipartisan Veterans Affairs Town Hall on Thursday 4/17 from 6:30PM to 8PM in Prescott\, at The Center on Rosser. PLEASE RSVP HERE in advance. We will hear from relevant speakers and then engage in a respectful dialogue of constituent testimony with our panel of LD1 and CD2 legislators. If you are a veteran\, a family member or caregiver for a veteran\, or a VA employee\, please sign up here when the link becomes available.
URL:https://www.yavdem.org/event/veterans-affairs-town-hall/
LOCATION:The Center on Rosser\, 1280 E Rosser St\, Prescott\, 86301\, United States
END:VEVENT
BEGIN:VEVENT
DTSTART;TZID=America/Phoenix:20250405T120000
DTEND;TZID=America/Phoenix:20250405T140000
DTSTAMP:20260424T123850
CREATED:20250327T175130Z
LAST-MODIFIED:20250327T175610Z
UID:1035-1743854400-1743861600@www.yavdem.org
SUMMARY:Hands Off! Prescott Fights Back Rally
DESCRIPTION:Donald Trump and Elon Musk think this country belongs to them. Prescott is fighting back! \nThey’re taking everything they can get their hands on—our health care\, our data\, our jobs\, our services—and daring the world to stop them. This is a crisis\, and the time to act is now. \n🚨 On Saturday\, April 5th\, we’re taking to the streets to fight back with a clear message: Hands off! 🚨 \n📍 Where: Prescott Courthouse 120 S Cortez St 📅 When: 12:00pm April 5\, 2025 \nSponsored by: \nPrescott Indivisible \nYavapai County Democratic Party \nDemocratic Women of the Prescott Area \nThis mass mobilization day is our message to the world that we do not consent to the destruction of our government and our economy for the benefit of Trump and his billionaire allies. Alongside Americans across the country\, we are marching\, rallying\, and protesting to demand a stop the chaos and build an opposition movement against the looting of our country. \nA core principle behind all Hands Off! events is a commitment to nonviolent action. We expect all participants to seek to de-escalate any potential confrontation with those who disagree with our values. \nCheck out handsoff2025.com for more information.
URL:https://www.yavdem.org/event/hands-off-prescott-fights-back-rally/
LOCATION:Prescott Courthouse Square
ATTACH;FMTTYPE=image/jpeg:https://www.yavdem.org/wp-content/uploads/2025/03/april_5.jpg
END:VEVENT
BEGIN:VEVENT
DTSTART;TZID=America/Phoenix:20250320T180000
DTEND;TZID=America/Phoenix:20250320T200000
DTSTAMP:20260424T123850
CREATED:20250314T233309Z
LAST-MODIFIED:20250314T233309Z
UID:1026-1742493600-1742500800@www.yavdem.org
SUMMARY:March Monthly Meeting and Potluck
DESCRIPTION:Please RSVP HERE as soon as possible!
URL:https://www.yavdem.org/event/march-monthly-meeting-and-potluck/
LOCATION:The Center on Rosser\, 1280 E Rosser St\, Prescott\, 86301\, United States
END:VEVENT
BEGIN:VEVENT
DTSTART;TZID=America/Phoenix:20250220T180000
DTEND;TZID=America/Phoenix:20250220T200000
DTSTAMP:20260424T123850
CREATED:20250201T203353Z
LAST-MODIFIED:20250201T203825Z
UID:989-1740074400-1740081600@www.yavdem.org
SUMMARY:February General Meeting & Potluck
DESCRIPTION:Y’all Come! We need each other more than ever. \nWe are excited to welcome Prescott City Council members and candidates for mayor\, Brandon Montoya and Cathey Rusing\, to our February meeting. \nRegister here: https://www.mobilize.us/yavapaicounty/event/752311/ 
URL:https://www.yavdem.org/event/february-general-meeting-potluck/
LOCATION:The Center on Rosser\, 1280 E Rosser St\, Prescott\, 86301\, United States
ATTACH;FMTTYPE=image/jpeg:https://www.yavdem.org/wp-content/uploads/2025/02/YD-TT-FEB-2025-Instagram-Post.jpg
END:VEVENT
BEGIN:VEVENT
DTSTART;TZID=America/Phoenix:20250116T180000
DTEND;TZID=America/Phoenix:20250116T200000
DTSTAMP:20260424T123850
CREATED:20250101T214856Z
LAST-MODIFIED:20250113T025958Z
UID:972-1737050400-1737057600@www.yavdem.org
SUMMARY:January Potluck and Monthly Meeting
DESCRIPTION:RSVP HERE!\n \nRSVP HERE!
URL:https://www.yavdem.org/event/january-potluck-and-monthly-meeting/
LOCATION:The Center on Rosser\, 1280 E Rosser St\, Prescott\, 86301\, United States
END:VEVENT
BEGIN:VEVENT
DTSTART;TZID=America/Phoenix:20241214T140000
DTEND;TZID=America/Phoenix:20241214T160000
DTSTAMP:20260424T123850
CREATED:20241118T021940Z
LAST-MODIFIED:20241204T205421Z
UID:958-1734184800-1734192000@www.yavdem.org
SUMMARY:2025 Organizational Meeting
DESCRIPTION:Please join us at this meeting to elect new leadership for the 2024-2026 cycle. If you are an elected Precinct Committeeperson\, your VOTE in YCDP Executive Committee elections is essential. This is a hybrid event; light snacks will be served in-person and ZOOM will be available. RSVP HERE!\n 
URL:https://www.yavdem.org/event/2025-organizational-meeting/
LOCATION:YavDem Headquarters\, 101 W Goodwin St. Suites 3\, 6\, 8\, Prescott\, AZ\, 86303\, United States
ATTACH;FMTTYPE=image/jpeg:https://www.yavdem.org/wp-content/uploads/2024/11/YCDP-12.14-Org-Meeting-Invite-final-SQUARE.jpg
END:VEVENT
BEGIN:VEVENT
DTSTART;TZID=America/Phoenix:20241102T093000
DTEND;TZID=America/Phoenix:20241102T123000
DTSTAMP:20260424T123850
CREATED:20240625T062253Z
LAST-MODIFIED:20241028T032027Z
UID:797-1730539800-1730550600@www.yavdem.org
SUMMARY:Canvass in Prescott
DESCRIPTION:Register in advance:\nhttps://www.mobilize.us/jumpstartaz/event/643637 \n\nJoin us in canvassing about issues that you care about in this upcoming election! This is an opportunity to spread the word about issues and the upcoming election to voters and have meaningful conversation! \nSign up for a time slot that works best for you- we’ll send you an email with all the details and an Organizer will reach out to confirm you have everything you need. \nFor folks who have not canvassed with us before\, please arrive at the beginning of your shift for a canvass training! \nDownload the miniVAN app from Google Play or the AppStore before arriving. \nIf you are an experienced canvasser\, please feel free to arrive 30 minutes after the beginning of your shift time to receive your packet and list number! \nCan’t see the location? You will once you sign up for the event! For security purposes\, all event locations are hidden unless you have RSVP’d. Thank you for your understanding and cooperation. \nMeet at Yavapai County Democratic Party Headquarters \n101 W. Goodwin St.\, Basement Level\, Prescott\, AZ 86301 \n\nIf the door to the basement is not unlocked\,\ncall (928) 541-0413 upon arrival and we will let you in.\nMultiple Days • Multiple Times
URL:https://www.yavdem.org/event/canvass-in-prescott/
LOCATION:Yavapai Democratic Office\, 101 W. Goodwin Street\, Basement Level\, Prescott\, AZ\, 86303\, United States
ATTACH;FMTTYPE=image/png:https://www.yavdem.org/wp-content/uploads/2024/06/IG_Canvass.png
END:VEVENT
BEGIN:VEVENT
DTSTART;TZID=America/Phoenix:20241029T170000
DTEND;TZID=America/Phoenix:20241029T190000
DTSTAMP:20260424T123850
CREATED:20241007T072151Z
LAST-MODIFIED:20241101T004404Z
UID:921-1730221200-1730228400@www.yavdem.org
SUMMARY:Phone Bank In-Person in Prescott
DESCRIPTION:Join the AZ Dems Coordinated Campaign in person in Prescott to engage directly with voters and talk about issues we all care about. \nWe’ll talk to voters about Democrats up and down the ticket in order to win in November. \nWe need your help! Phone banks have become an essential part of campaigns. \nWhether you’re new to phone banking or an expert\, you have a place with our people-powered campaigns. \nWe’ll provide training on both the script and how to call people! \nLocation provided when you sign up. \nhttps://www.mobilize.us/jumpstartaz/event/672862/
URL:https://www.yavdem.org/event/phone-bank-in-person-in-prescott/
ATTACH;FMTTYPE=image/png:https://www.yavdem.org/wp-content/uploads/2024/10/Phone-Bank-1.png
END:VEVENT
BEGIN:VEVENT
DTSTART;TZID=America/Phoenix:20241017T180000
DTEND;TZID=America/Phoenix:20241017T200000
DTSTAMP:20260424T123850
CREATED:20241011T014900Z
LAST-MODIFIED:20241011T015036Z
UID:933-1729188000-1729195200@www.yavdem.org
SUMMARY:Oct GOTV Home Stretch Meeting & Potluck
DESCRIPTION:In the home stretch to elect this country’s first female president\, let’s rally for joy\, voter turnout\, and activism. Local celebrity Toni Tennille will stop by to jumpstart our enthusiasm for the final weeks of work. We’ll go over state propositions\, candidates\, judges\, and local initiatives. \nLet’s break our August attendance record! Yummy food. No ZOOM available for this meeting. \nWatch our social media for information on issues. \n$10 if bringing a dish to share. $15 if not. \nClick to register: https://www.mobilize.us/yavapaicounty/event/714464/
URL:https://www.yavdem.org/event/oct-gotv-home-stretch-meeting-potluck/
LOCATION:The Center on Rosser\, 1280 E Rosser St\, Prescott\, 86301\, United States
ATTACH;FMTTYPE=image/jpeg:https://www.yavdem.org/wp-content/uploads/2024/10/YD-TT_IG-OCT.jpg
END:VEVENT
BEGIN:VEVENT
DTSTART;TZID=America/Phoenix:20241009T160000
DTEND;TZID=America/Phoenix:20241009T180000
DTSTAMP:20260424T123850
CREATED:20240625T063054Z
LAST-MODIFIED:20240925T023842Z
UID:801-1728489600-1728496800@www.yavdem.org
SUMMARY:Yavapai County VOTER TOWNHALL
DESCRIPTION:Everything is on the line this election— from abortion rights to protecting our democracy! Join the Arizona Democratic Party for our Yavapai County Townhall where we will hear from Chairwoman Yolanda Bejarano and other guests about the path to victory in November. \n Doors open at 4pm! \n Food and drinks will be provided! \n Stay after to watch the Gallego debate starting at 6pm with other Dems! \nhttps://mobilize.us/s/Oi1AJy \n  If bringing a Plus-One\, please register separately. \n  Post Office Building • Corner of Goodwin & Cortez \n  Be aware that the elevator is out of service. \n  You’ll need to use the stairs to reach the basement.
URL:https://www.yavdem.org/event/yavapai-county-voter-townhall/
LOCATION:Yavapai Democratic Office\, 101 W. Goodwin Street\, Basement Level\, Prescott\, AZ\, 86303\, United States
ATTACH;FMTTYPE=image/png:https://www.yavdem.org/wp-content/uploads/2024/06/TownHall.png
END:VEVENT
BEGIN:VEVENT
DTSTART;TZID=America/Phoenix:20241001T173000
DTEND;TZID=America/Phoenix:20241001T200000
DTSTAMP:20260424T123850
CREATED:20240830T223848Z
LAST-MODIFIED:20240925T023449Z
UID:885-1727803800-1727812800@www.yavdem.org
SUMMARY:Debate Watch Party
DESCRIPTION:Join us to watch the Vice Presidential Debate. \nCamaraderie and cheers for our candidate. \nhttps://mobilize.us/s/Oi1AJy \n If bringing a Plus-One\, please register separately. \n Post Office Building • Corner of Goodwin & Cortez \n Be aware that the elevator is out of service. \n You’ll need to use the stairs to reach the basement.
URL:https://www.yavdem.org/event/debate-watch-party/
LOCATION:Yavapai Democratic Office\, 101 W. Goodwin Street\, Basement Level\, Prescott\, AZ\, 86303\, United States
ATTACH;FMTTYPE=image/png:https://www.yavdem.org/wp-content/uploads/2024/08/VP-Debate-Watch-Party.png
END:VEVENT
BEGIN:VEVENT
DTSTART;TZID=America/Phoenix:20240921T170000
DTEND;TZID=America/Phoenix:20240921T203000
DTSTAMP:20260424T123850
CREATED:20240717T012502Z
LAST-MODIFIED:20240829T213627Z
UID:852-1726938000-1726950600@www.yavdem.org
SUMMARY:2024 Truman Clinton Gala
DESCRIPTION:Together\, we have chosen to fight for democracy instead of handing America over to a dictator. We have made this commitment to\, and for each other since the Yavapai County Democratic Party was founded in 1973. \nAnd we will not stop now. \nPlease join us on Saturday\, September 21st at the Prescott Resort for a celebration of our unwavering union. We’ll start with a lively cocktail hour and then move into the ballroom for a delicious meal with friends. Our list of nationally known speakers is being finalized\, and we are excited to present a program that will carry us through to the finish line on November 5th. \nThis is our biggest event of the year\, and it just wouldn’t be the same without you there. See you in September. Cheers! CLICK HERE TO BUY TICKETS NOW.
URL:https://www.yavdem.org/event/2024-truman-clinton-gala/
LOCATION:The Prescott Resort\, 1500 AZ-69\, Prescott\, AZ\, 86301\, United States
ATTACH;FMTTYPE=image/jpeg:https://www.yavdem.org/wp-content/uploads/2024/08/TC24-Square-FINAL.jpg
END:VEVENT
BEGIN:VEVENT
DTSTART;TZID=America/Phoenix:20240829T080000
DTEND;TZID=America/Phoenix:20240921T235900
DTSTAMP:20260424T123850
CREATED:20240830T040533Z
LAST-MODIFIED:20240830T223346Z
UID:879-1724918400-1726963140@www.yavdem.org
SUMMARY:Truman-Clinton Online Auction
DESCRIPTION:This year’s online auction includes a fabulous selection of raffle items\, unique baskets\, great gift certificates for dining\, shopping and lodging\, fine art\, an overall diverse collection of artistic work\, stunning jewelry\, thought provoking books\, classy wearables\, and more! DON’T MISS OUT! BID$ – BID $$ – BID$$$ \nwww.32auctions.com/ycdp2024 \nA BIG THANK YOU TO YOU\, our generous donors and bidders\, for your enthusiastic support of our auction! The variety and quality of donated items is amazing\, and our gratitude is heartfelt. We couldn’t do it without you! \nWINNING BIDDERS will be notified by 32Auctions at the conclusion of the auction. Payment is to be made through the 32Auctions site. You will receive an emailed invoice and a receipt after payment. \nALL SALES ARE FINAL. No refunds will be given after bidding has closed and payment has been made.
URL:https://www.yavdem.org/event/truman-clinton-online-auction/
ATTACH;FMTTYPE=image/png:https://www.yavdem.org/wp-content/uploads/2024/08/Square_Chroma-Truman-Clinton-V2.5.1-no-link-Instagram-Post.png
END:VEVENT
BEGIN:VEVENT
DTSTART;TZID=America/Phoenix:20240815T180000
DTEND;TZID=America/Phoenix:20240815T200000
DTSTAMP:20260424T123850
CREATED:20240707T234358Z
LAST-MODIFIED:20240707T235406Z
UID:825-1723744800-1723752000@www.yavdem.org
SUMMARY:August Monthly Meeting & Potluck
DESCRIPTION:Presentation\, Q&A\, and discussion on the rise of antisemitism locally and nationally and how we as a community can respond. \n$10 with potluck contribution \n$15 without \nRSVP: https://www.mobilize.us/yavapaicounty/event/645146/ \n 
URL:https://www.yavdem.org/event/august-monthly-meeting-potluck/
LOCATION:The Center on Rosser\, 1280 E Rosser St\, Prescott\, 86301\, United States
ATTACH;FMTTYPE=image/jpeg:https://www.yavdem.org/wp-content/uploads/2024/07/YT-TT-AUG-Square.jpg
END:VEVENT
BEGIN:VEVENT
DTSTART;TZID=America/Phoenix:20240727T130000
DTEND;TZID=America/Phoenix:20240727T150000
DTSTAMP:20260424T123850
CREATED:20240717T013317Z
LAST-MODIFIED:20240717T015744Z
UID:857-1722085200-1722092400@www.yavdem.org
SUMMARY:Yarnell Candidate Forum
DESCRIPTION:Don’t miss hearing from local candidates at the Yarnell Presbyterian Church on Saturday\, July 27th from 1-3pm.
URL:https://www.yavdem.org/event/yarnell-candidate-forum/
LOCATION:Yarnell Presbyterian Church\, 16455 Table Top Way\, Yarnell\, AZ\, 85362\, United States
END:VEVENT
BEGIN:VEVENT
DTSTART;TZID=America/Phoenix:20240718T180000
DTEND;TZID=America/Phoenix:20240718T200000
DTSTAMP:20260424T123850
CREATED:20240707T234913Z
LAST-MODIFIED:20240717T010925Z
UID:829-1721325600-1721332800@www.yavdem.org
SUMMARY:July Monthly Meeting & Potluck
DESCRIPTION:Dylan Baca will speak about Arizona’s Coordinated Campaign efforts and strategies to elect Democrats up and down the ballot in 2024. \n$10 with dish \n$15 without \nRSVP: https://www.mobilize.us/yavapaicounty/event/642582/
URL:https://www.yavdem.org/event/july-monthly-meeting-potluck/
LOCATION:The Center on Rosser\, 1280 E Rosser St\, Prescott\, 86301\, United States
ATTACH;FMTTYPE=image/jpeg:https://www.yavdem.org/wp-content/uploads/2024/07/YD-TT-JULY-2024-SQUARE-1.jpg
END:VEVENT
BEGIN:VEVENT
DTSTART;TZID=America/Phoenix:20240706T080000
DTEND;TZID=America/Phoenix:20240706T120000
DTSTAMP:20260424T123850
CREATED:20240616T202256Z
LAST-MODIFIED:20240625T063457Z
UID:784-1720252800-1720267200@www.yavdem.org
SUMMARY:Prescott Rodeo Days Parade
DESCRIPTION:Walk the parade route with the Yavapai Democrats parade float. \nAll necessary details in the Mobilize Event. \nSign Up: https://www.mobilize.us/yavapaicounty/event/636907/ \n 
URL:https://www.yavdem.org/event/prescott-rodeo-days-parade/
LOCATION:Prescott Courthouse Square
ATTACH;FMTTYPE=image/png:https://www.yavdem.org/wp-content/uploads/2024/06/Prescott_Parade_IG_Web.png
END:VEVENT
BEGIN:VEVENT
DTSTART;TZID=America/Phoenix:20240623T120000
DTEND;TZID=America/Phoenix:20240623T150000
DTSTAMP:20260424T123850
CREATED:20240512T235912Z
LAST-MODIFIED:20240612T002921Z
UID:759-1719144000-1719154800@www.yavdem.org
SUMMARY:Annual Picnic and Pie Auction
DESCRIPTION:Waitlist info coming soon!
URL:https://www.yavdem.org/event/annual-picnic-and-pie-auction/
LOCATION:Watson Lake\, 3101 Watson Lake Rd\, Prescott\, AZ\, 86301\, United States
END:VEVENT
BEGIN:VEVENT
DTSTART;TZID=America/Phoenix:20240609T130000
DTEND;TZID=America/Phoenix:20240609T160000
DTSTAMP:20260424T123850
CREATED:20240528T011012Z
LAST-MODIFIED:20240528T011252Z
UID:775-1717938000-1717948800@www.yavdem.org
SUMMARY:Dem Canvass in Prescott
DESCRIPTION:There are less than 165 Days until the next presidential election and we’ve got to start talking to low-turnout voters. Join us for our first canvasses of the season in Prescott!\nWe will provide training when you arrive at our meeting place\, and you’ll be paired up with someone when you’re ready to start. We are only focusing on Dem doors for this go-around! Please RSVP HERE as soon as possible. Meet-up location will be shared after you sign up.
URL:https://www.yavdem.org/event/dem-canvass-in-prescott-2/
END:VEVENT
BEGIN:VEVENT
DTSTART;TZID=America/Phoenix:20240602T130000
DTEND;TZID=America/Phoenix:20240602T160000
DTSTAMP:20260424T123850
CREATED:20240528T010851Z
LAST-MODIFIED:20240528T010851Z
UID:773-1717333200-1717344000@www.yavdem.org
SUMMARY:Dem Canvass in Prescott
DESCRIPTION:There are less than 165 Days until the next presidential election and we’ve got to start talking to low-turnout voters. Join us for our first canvasses of the season in Prescott!\nWe will provide training when you arrive at our meeting place\, and you’ll be paired up with someone when you’re ready to start. We are only focusing on Dem doors for this go-around! Please RSVP HERE as soon as possible. Meet-up location will be shared after you sign up.
URL:https://www.yavdem.org/event/dem-canvass-in-prescott/
END:VEVENT
BEGIN:VEVENT
DTSTART;TZID=America/Phoenix:20240321T180000
DTEND;TZID=America/Phoenix:20240321T200000
DTSTAMP:20260424T123850
CREATED:20240304T004008Z
LAST-MODIFIED:20240304T004137Z
UID:718-1711044000-1711051200@www.yavdem.org
SUMMARY:March General Meeting - Potluck and Zoom
DESCRIPTION:RSVP HERE \n \nWow! We’ve got an incredible panel of speakers lined up for 3/21. \nFrom left to right: Democratic\, Clean Elections candidates for Corporation Commission\, Ylenia Aguilar and Jonathon Hill will introduce themselves and their campaigns. Aguilar is a champion of consumer protection and Hill believes his technical background is essential for regulating Arizona’s utilities. \nPaul Johnson is an Independent from Make Elections Fair Arizona and will present about open primaries. If unable to attend in person\, the program portion will be available by Zoom at this link: https://us02web.zoom.us/j/87335794995 \nRSVP HERE \n 
URL:https://www.yavdem.org/event/march-general-meeting-potluck-and-zoom/
LOCATION:The Center on Rosser\, 1280 E Rosser St\, Prescott\, 86301\, United States
ATTACH;FMTTYPE=image/jpeg:https://www.yavdem.org/wp-content/uploads/2024/03/YD-TT-MAR-2024-1200-×-630-px-Instagram-Post.jpg
END:VEVENT
BEGIN:VEVENT
DTSTART;TZID=America/Phoenix:20240316T120000
DTEND;TZID=America/Phoenix:20240316T150000
DTSTAMP:20260424T123850
CREATED:20240304T023131Z
LAST-MODIFIED:20240305T211903Z
UID:723-1710590400-1710601200@www.yavdem.org
SUMMARY:Petition Signing Party!
DESCRIPTION:For PRESCOTT precincts only. All PCs must run for election and must have nomination petitions signed. Meet at HQ and sign each other’s petitions unless you’ve already accomplished that in your neighborhood. We’ll also have Arizona for Abortion Access Amendment petitions on hand if you haven’t have a chance to sign yet. Boom! Done! RSVP HERE
URL:https://www.yavdem.org/event/petition-signing-party/
LOCATION:Yavapai Democratic Office\, 101 W. Goodwin Street\, Basement Level\, Prescott\, AZ\, 86303\, United States
ATTACH;FMTTYPE=image/png:https://www.yavdem.org/wp-content/uploads/2024/03/PC-Petitions-Party-IG-Post-1.png
END:VEVENT
END:VCALENDAR